BEGIN:VCALENDAR
VERSION:2.0
PRODID:-//34.239.191.125//NONSGML kigkonsult.se iCalcreator 2.26.9//
CALSCALE:GREGORIAN
METHOD:PUBLISH
X-WR-CALNAME:NM Department of Veterans Services
X-WR-CALDESC:
X-FROM-URL:https://www.nmdvs.org
X-WR-TIMEZONE:Atlantic/Azores
BEGIN:VTIMEZONE
TZID:Atlantic/Azores
X-LIC-LOCATION:Atlantic/Azores
BEGIN:STANDARD
DTSTART:20211031T010000
TZOFFSETFROM:+0000
TZOFFSETTO:-0100
RDATE:20221030T010000
TZNAME:-01
END:STANDARD
BEGIN:DAYLIGHT
DTSTART:20210328T000000
TZOFFSETFROM:-0100
TZOFFSETTO:+0000
RDATE:20220327T000000,20230326T000000
TZNAME:+00
END:DAYLIGHT
END:VTIMEZONE
BEGIN:VEVENT
UID:ai1ec-7364@www.nmdvs.org
DTSTAMP:20210927T114708Z
CATEGORIES:
CONTACT:Joseph Dorn\; 5058679117\; josephm.dorn@state.nm.us
DESCRIPTION:NMDVS will host a veterans outreach in the New Mexico VA Hospit
 al Lobby. Please bring your DD-214.\n \nFor more information please contac
 t Joseph Dorn @ 505-861-9117
DTSTART;TZID=Atlantic/Azores:20210928T090000
DTEND;TZID=Atlantic/Azores:20210928T130000
GEO:+35.055308;-106.577659
LOCATION:New Mexico VA Hospital @ 1500 San Pedro Dr SE\, Albuquerque\, NM 8
 7108\, USA
SEQUENCE:0
SUMMARY:New Mexico VA Hospital Veterans Outreach
URL:https://www.nmdvs.org/event/new-mexico-va-hospital-veterans-outreach/
X-COST-TYPE:free
X-ALT-DESC;FMTTYPE=text/html:<!DOCTYPE HTML PUBLIC '-//W3C//DTD HTML 3.2//E
 N'>\\n<HTML>\\n<HEAD>\\n<TITLE></TITLE>\\n</HEAD>\\n<BODY><div id='et-boc'
  class='et-boc'>\n			\n		<div class='et-l et-l--post'>\n			<div class='et_builder_
 inner_content et_pb_gutters2'>\n		<p>NMDVS will host a veterans outreach in 
 the New Mexico VA Hospital Lobby. Please bring your DD-214.</p>\n<p> </p>
 \n<p>For more information please contact Joseph Dorn @ 505-861-9117</p>\n
 \n		</div>\n	</div>\n	\n			\n		</div>\n		</BODY></HTML>
END:VEVENT
END:VCALENDAR
