BEGIN:VCALENDAR
VERSION:2.0
PRODID:-//34.239.191.125//NONSGML kigkonsult.se iCalcreator 2.26.9//
CALSCALE:GREGORIAN
METHOD:PUBLISH
X-WR-CALNAME:NM Department of Veterans Services
X-WR-CALDESC:
X-FROM-URL:https://www.nmdvs.org
X-WR-TIMEZONE:Atlantic/Azores
BEGIN:VTIMEZONE
TZID:Atlantic/Azores
X-LIC-LOCATION:Atlantic/Azores
BEGIN:STANDARD
DTSTART:20211031T010000
TZOFFSETFROM:+0000
TZOFFSETTO:-0100
RDATE:20221030T010000
TZNAME:-01
END:STANDARD
BEGIN:DAYLIGHT
DTSTART:20210328T000000
TZOFFSETFROM:-0100
TZOFFSETTO:+0000
RDATE:20220327T000000,20230326T000000
TZNAME:+00
END:DAYLIGHT
END:VTIMEZONE
BEGIN:VEVENT
UID:ai1ec-7287@www.nmdvs.org
DTSTAMP:20210926T225038Z
CATEGORIES:
CONTACT:Zack Collinas\; 505-999-1201\; zackcollins@gamil.cpm
DESCRIPTION:For more information please contact Zackcollins@gmail.com or 50
 5-999-1201
DTSTART;TZID=Atlantic/Azores:20210925T100000
DTEND;TZID=Atlantic/Azores:20210925T140000
GEO:+35.091905;-106.587757
LOCATION:Paws and Stripes @ 817 Truman St NE\, Albuquerque\, NM 87110\, USA
SEQUENCE:0
SUMMARY:Paws & Stripes Open House
URL:https://www.nmdvs.org/event/paws-stripes-open-house/
X-COST-TYPE:free
X-ALT-DESC;FMTTYPE=text/html:<!DOCTYPE HTML PUBLIC '-//W3C//DTD HTML 3.2//E
 N'>\\n<HTML>\\n<HEAD>\\n<TITLE></TITLE>\\n</HEAD>\\n<BODY><div id='et-boc'
  class='et-boc'>\n			\n		<div class='et-l et-l--post'>\n			<div class='et_builder_
 inner_content et_pb_gutters2'>\n		<p>For more information please contact Zac
 kcollins@gmail.com or 505-999-1201</p>\n\n		</div>\n	</div>\n	\n			\n		</div>\n		</BO
 DY></HTML>
END:VEVENT
END:VCALENDAR
